{"text_format":"1","workbook":"xlsx","n_sheets":3,"sheets":["高度角補正計算","sample","図説"],"not_rendered":{"charts":0,"images":0,"macros":1,"external_links":0,"defined_names":5,"comments":0,"pivot_tables":0},"unopened":[],"bounds":{"document_bytes":16777216,"sheet_cells":100000,"rows_first":2000,"rows_last":500,"rows_between":2000,"halvings":0,"cell_chars":16384,"cell_head_chars":4096},"cells_cut":0,"cells_raw":0,"read":"whole","date_system":"1900"}

{"sheet":"高度角補正計算","index":0,"n_rows":151,"n_cols":16,"rows_kept":151,"cut":false,"hidden":false,"merged":[[2,4,2,5],[2,0,3,0],[2,1,3,1],[2,6,2,7],[2,11,2,12],[2,13,2,14],[2,2,2,3]]}
["高度角補正計算"]
["ver.20240326"]
["器械点","視準点","器械高",null,"目標高",null,"観測高度角",null,"器械高","反射鏡高","測定距離","補正数(①②)",null,"補正済高低角(③)",null,"平均"]
[null,null,"i1","i2","f1","f2","α1","α2","g","m","D","dα1","dα2","α1'","α2'","(α1'-α2')/2"]
[]
[]
[]
[]
[]
[]
[]
[]
[]
[]
[]
[]
[]
[]
[]
[null,null,null,null,null,null,null,null,null,null,null,null,null,null,null,{"$f":"IF(ISERROR(#REF!),\"\",#REF!)","v":""}]
[null,null,null,null,null,null,null,null,null,null,null,null,null,null,null,{"$f":"IF(ISERROR(#REF!),\"\",#REF!)","v":""}]
[]
[]
[null,null,null,null,null,null,null,null,null,null,null,null,null,null,null,{"$f":"IF(ISERROR(#REF!),\"\",#REF!)","v":""}]
[null,null,null,null,null,null,null,null,null,null,null,null,null,null,null,{"$f":"IF(ISERROR(#REF!),\"\",#REF!)","v":""}]
[]
[]
[]
[]
[]
[]
[]
[]
[]
[]
[]
[]
[]
[]
[]
[]
[]
[]
[]
[]
[]
[]
[]
[]
[]
[]
[]
[]
[]
[]
[]
[]
[]
[]
[]
[]
[]
[null,null,null,null,null,null,null,null,null,null,null,null,null,{"$f":"IF(ISERROR(#REF!),\"\",#REF!)","v":""},{"$f":"IF(ISERROR(#REF!),\"\",#REF!)","v":""},{"$f":"IF(ISERROR(#REF!),\"\",#REF!)","v":""}]
[null,null,null,null,null,null,null,null,null,null,null,null,null,{"$f":"IF(ISERROR(#REF!),\"\",#REF!)","v":""},{"$f":"IF(ISERROR(#REF!),\"\",#REF!)","v":""},{"$f":"IF(ISERROR(#REF!),\"\",#REF!)","v":""}]
[null,null,null,null,null,null,null,null,null,null,null,null,null,{"$f":"IF(ISERROR(#REF!),\"\",#REF!)","v":""},{"$f":"IF(ISERROR(#REF!),\"\",#REF!)","v":""},{"$f":"IF(ISERROR(#REF!),\"\",#REF!)","v":""}]
[null,null,null,null,null,null,null,null,null,null,null,null,null,{"$f":"IF(ISERROR(#REF!),\"\",#REF!)","v":""},{"$f":"IF(ISERROR(#REF!),\"\",#REF!)","v":""},{"$f":"IF(ISERROR(#REF!),\"\",#REF!)","v":""}]
[null,null,null,null,null,null,null,null,null,null,null,{"$f":"IF(ISERROR(#REF!),\"\",#REF!)","v":""},{"$f":"IF(ISERROR(#REF!),\"\",#REF!)","v":""},{"$f":"IF(ISERROR(#REF!),\"\",#REF!)","v":""},{"$f":"IF(ISERROR(#REF!),\"\",#REF!)","v":""},{"$f":"IF(ISERROR(#REF!),\"\",#REF!)","v":""}]
[null,null,null,null,null,null,null,null,null,null,null,{"$f":"IF(ISERROR(#REF!),\"\",#REF!)","v":""},{"$f":"IF(ISERROR(#REF!),\"\",#REF!)","v":""},{"$f":"IF(ISERROR(#REF!),\"\",#REF!)","v":""},{"$f":"IF(ISERROR(#REF!),\"\",#REF!)","v":""},{"$f":"IF(ISERROR(#REF!),\"\",#REF!)","v":""}]
[null,null,null,null,null,null,null,null,null,null,null,{"$f":"IF(ISERROR(#REF!),\"\",#REF!)","v":""},{"$f":"IF(ISERROR(#REF!),\"\",#REF!)","v":""},{"$f":"IF(ISERROR(#REF!),\"\",#REF!)","v":""},{"$f":"IF(ISERROR(#REF!),\"\",#REF!)","v":""},{"$f":"IF(ISERROR(#REF!),\"\",#REF!)","v":""}]
[null,null,null,null,null,null,null,null,null,null,null,{"$f":"IF(ISERROR(#REF!),\"\",#REF!)","v":""},{"$f":"IF(ISERROR(#REF!),\"\",#REF!)","v":""},{"$f":"IF(ISERROR(#REF!),\"\",#REF!)","v":""},{"$f":"IF(ISERROR(#REF!),\"\",#REF!)","v":""},{"$f":"IF(ISERROR(#REF!),\"\",#REF!)","v":""}]
[null,null,null,null,null,null,null,null,null,null,null,{"$f":"IF(ISERROR(#REF!),\"\",#REF!)","v":""},{"$f":"IF(ISERROR(#REF!),\"\",#REF!)","v":""},{"$f":"IF(ISERROR(#REF!),\"\",#REF!)","v":""},{"$f":"IF(ISERROR(#REF!),\"\",#REF!)","v":""},{"$f":"IF(ISERROR(#REF!),\"\",#REF!)","v":""}]
[null,null,null,null,null,null,null,null,null,null,null,{"$f":"IF(ISERROR(#REF!),\"\",#REF!)","v":""},{"$f":"IF(ISERROR(#REF!),\"\",#REF!)","v":""},{"$f":"IF(ISERROR(#REF!),\"\",#REF!)","v":""},{"$f":"IF(ISERROR(#REF!),\"\",#REF!)","v":""},{"$f":"IF(ISERROR(#REF!),\"\",#REF!)","v":""}]
[null,null,null,null,null,null,null,null,null,null,null,{"$f":"IF(ISERROR(#REF!),\"\",#REF!)","v":""},{"$f":"IF(ISERROR(#REF!),\"\",#REF!)","v":""},{"$f":"IF(ISERROR(#REF!),\"\",#REF!)","v":""},{"$f":"IF(ISERROR(#REF!),\"\",#REF!)","v":""},{"$f":"IF(ISERROR(#REF!),\"\",#REF!)","v":""}]
[null,null,null,null,null,null,null,null,null,null,null,{"$f":"IF(ISERROR(#REF!),\"\",#REF!)","v":""},{"$f":"IF(ISERROR(#REF!),\"\",#REF!)","v":""},{"$f":"IF(ISERROR(#REF!),\"\",#REF!)","v":""},{"$f":"IF(ISERROR(#REF!),\"\",#REF!)","v":""},{"$f":"IF(ISERROR(#REF!),\"\",#REF!)","v":""}]
[null,null,null,null,null,null,null,null,null,null,null,{"$f":"IF(ISERROR(#REF!),\"\",#REF!)","v":""},{"$f":"IF(ISERROR(#REF!),\"\",#REF!)","v":""},{"$f":"IF(ISERROR(#REF!),\"\",#REF!)","v":""},{"$f":"IF(ISERROR(#REF!),\"\",#REF!)","v":""},{"$f":"IF(ISERROR(#REF!),\"\",#REF!)","v":""}]
[null,null,null,null,null,null,null,null,null,null,null,{"$f":"IF(ISERROR(#REF!),\"\",#REF!)","v":""},{"$f":"IF(ISERROR(#REF!),\"\",#REF!)","v":""},{"$f":"IF(ISERROR(#REF!),\"\",#REF!)","v":""},{"$f":"IF(ISERROR(#REF!),\"\",#REF!)","v":""},{"$f":"IF(ISERROR(#REF!),\"\",#REF!)","v":""}]
[null,null,null,null,null,null,null,null,null,null,null,{"$f":"IF(ISERROR(#REF!),\"\",#REF!)","v":""},{"$f":"IF(ISERROR(#REF!),\"\",#REF!)","v":""},{"$f":"IF(ISERROR(#REF!),\"\",#REF!)","v":""},{"$f":"IF(ISERROR(#REF!),\"\",#REF!)","v":""},{"$f":"IF(ISERROR(#REF!),\"\",#REF!)","v":""}]
[null,null,null,null,null,null,null,null,null,null,null,{"$f":"IF(ISERROR(#REF!),\"\",#REF!)","v":""},{"$f":"IF(ISERROR(#REF!),\"\",#REF!)","v":""},{"$f":"IF(ISERROR(#REF!),\"\",#REF!)","v":""},{"$f":"IF(ISERROR(#REF!),\"\",#REF!)","v":""},{"$f":"IF(ISERROR(#REF!),\"\",#REF!)","v":""}]
[]
[null,null,null,null,null,null,null,null,null,null,null,{"$f":"IF(ISERROR(#REF!),\"\",#REF!)","v":""},{"$f":"IF(ISERROR(#REF!),\"\",#REF!)","v":""},{"$f":"IF(ISERROR(#REF!),\"\",#REF!)","v":""},{"$f":"IF(ISERROR(#REF!),\"\",#REF!)","v":""},{"$f":"IF(ISERROR(#REF!),\"\",#REF!)","v":""}]
[null,null,null,null,null,null,null,null,null,null,null,{"$f":"IF(ISERROR(#REF!),\"\",#REF!)","v":""},{"$f":"IF(ISERROR(#REF!),\"\",#REF!)","v":""},{"$f":"IF(ISERROR(#REF!),\"\",#REF!)","v":""},{"$f":"IF(ISERROR(#REF!),\"\",#REF!)","v":""},{"$f":"IF(ISERROR(#REF!),\"\",#REF!)","v":""}]
[null,null,null,null,null,null,null,null,null,null,null,{"$f":"IF(ISERROR(#REF!),\"\",#REF!)","v":""},{"$f":"IF(ISERROR(#REF!),\"\",#REF!)","v":""},{"$f":"IF(ISERROR(#REF!),\"\",#REF!)","v":""},{"$f":"IF(ISERROR(#REF!),\"\",#REF!)","v":""},{"$f":"IF(ISERROR(#REF!),\"\",#REF!)","v":""}]
[null,null,null,null,null,null,null,null,null,null,null,{"$f":"IF(ISERROR(#REF!),\"\",#REF!)","v":""},{"$f":"IF(ISERROR(#REF!),\"\",#REF!)","v":""},{"$f":"IF(ISERROR(#REF!),\"\",#REF!)","v":""},{"$f":"IF(ISERROR(#REF!),\"\",#REF!)","v":""},{"$f":"IF(ISERROR(#REF!),\"\",#REF!)","v":""}]
[]
[null,null,null,null,null,null,null,null,null,null,null,{"$f":"IF(ISERROR(#REF!),\"\",#REF!)","v":""},{"$f":"IF(ISERROR(#REF!),\"\",#REF!)","v":""},{"$f":"IF(ISERROR(#REF!),\"\",#REF!)","v":""},{"$f":"IF(ISERROR(#REF!),\"\",#REF!)","v":""},{"$f":"IF(ISERROR(#REF!),\"\",#REF!)","v":""}]
[null,null,null,null,null,null,null,null,null,null,null,{"$f":"IF(ISERROR(#REF!),\"\",#REF!)","v":""},{"$f":"IF(ISERROR(#REF!),\"\",#REF!)","v":""},{"$f":"IF(ISERROR(#REF!),\"\",#REF!)","v":""},{"$f":"IF(ISERROR(#REF!),\"\",#REF!)","v":""},{"$f":"IF(ISERROR(#REF!),\"\",#REF!)","v":""}]
[null,null,null,null,null,null,null,null,null,null,null,{"$f":"IF(ISERROR(#REF!),\"\",#REF!)","v":""},{"$f":"IF(ISERROR(#REF!),\"\",#REF!)","v":""},{"$f":"IF(ISERROR(#REF!),\"\",#REF!)","v":""},{"$f":"IF(ISERROR(#REF!),\"\",#REF!)","v":""},{"$f":"IF(ISERROR(#REF!),\"\",#REF!)","v":""}]
[null,null,null,null,null,null,null,null,null,null,null,{"$f":"IF(ISERROR(#REF!),\"\",#REF!)","v":""},{"$f":"IF(ISERROR(#REF!),\"\",#REF!)","v":""},{"$f":"IF(ISERROR(#REF!),\"\",#REF!)","v":""},{"$f":"IF(ISERROR(#REF!),\"\",#REF!)","v":""},{"$f":"IF(ISERROR(#REF!),\"\",#REF!)","v":""}]
[null,null,null,null,null,null,null,null,null,null,null,{"$f":"IF(ISERROR(#REF!),\"\",#REF!)","v":""},{"$f":"IF(ISERROR(#REF!),\"\",#REF!)","v":""},{"$f":"IF(ISERROR(#REF!),\"\",#REF!)","v":""},{"$f":"IF(ISERROR(#REF!),\"\",#REF!)","v":""},{"$f":"IF(ISERROR(#REF!),\"\",#REF!)","v":""}]
[null,null,null,null,null,null,null,null,null,null,null,{"$f":"IF(ISERROR(#REF!),\"\",#REF!)","v":""},{"$f":"IF(ISERROR(#REF!),\"\",#REF!)","v":""},{"$f":"IF(ISERROR(#REF!),\"\",#REF!)","v":""},{"$f":"IF(ISERROR(#REF!),\"\",#REF!)","v":""},{"$f":"IF(ISERROR(#REF!),\"\",#REF!)","v":""}]
[null,null,null,null,null,null,null,null,null,null,null,{"$f":"IF(ISERROR(#REF!),\"\",#REF!)","v":""},{"$f":"IF(ISERROR(#REF!),\"\",#REF!)","v":""},{"$f":"IF(ISERROR(#REF!),\"\",#REF!)","v":""},{"$f":"IF(ISERROR(#REF!),\"\",#REF!)","v":""},{"$f":"IF(ISERROR(#REF!),\"\",#REF!)","v":""}]
[null,null,null,null,null,null,null,null,null,null,null,{"$f":"IF(ISERROR(#REF!),\"\",#REF!)","v":""},{"$f":"IF(ISERROR(#REF!),\"\",#REF!)","v":""},{"$f":"IF(ISERROR(#REF!),\"\",#REF!)","v":""},{"$f":"IF(ISERROR(#REF!),\"\",#REF!)","v":""},{"$f":"IF(ISERROR(#REF!),\"\",#REF!)","v":""}]
[null,null,null,null,null,null,null,null,null,null,null,{"$f":"IF(ISERROR(#REF!),\"\",#REF!)","v":""},{"$f":"IF(ISERROR(#REF!),\"\",#REF!)","v":""},{"$f":"IF(ISERROR(#REF!),\"\",#REF!)","v":""},{"$f":"IF(ISERROR(#REF!),\"\",#REF!)","v":""},{"$f":"IF(ISERROR(#REF!),\"\",#REF!)","v":""}]
[null,null,null,null,null,null,null,null,null,null,null,{"$f":"IF(ISERROR(#REF!),\"\",#REF!)","v":""},{"$f":"IF(ISERROR(#REF!),\"\",#REF!)","v":""},{"$f":"IF(ISERROR(#REF!),\"\",#REF!)","v":""},{"$f":"IF(ISERROR(#REF!),\"\",#REF!)","v":""},{"$f":"IF(ISERROR(#REF!),\"\",#REF!)","v":""}]
[null,null,null,null,null,null,null,null,null,null,null,{"$f":"IF(ISERROR(#REF!),\"\",#REF!)","v":""},{"$f":"IF(ISERROR(#REF!),\"\",#REF!)","v":""},{"$f":"IF(ISERROR(#REF!),\"\",#REF!)","v":""},{"$f":"IF(ISERROR(#REF!),\"\",#REF!)","v":""},{"$f":"IF(ISERROR(#REF!),\"\",#REF!)","v":""}]
[null,null,null,null,null,null,null,null,null,null,null,{"$f":"IF(ISERROR(#REF!),\"\",#REF!)","v":""},{"$f":"IF(ISERROR(#REF!),\"\",#REF!)","v":""},{"$f":"IF(ISERROR(#REF!),\"\",#REF!)","v":""},{"$f":"IF(ISERROR(#REF!),\"\",#REF!)","v":""},{"$f":"IF(ISERROR(#REF!),\"\",#REF!)","v":""}]
[null,null,null,null,null,null,null,null,null,null,null,{"$f":"IF(ISERROR(#REF!),\"\",#REF!)","v":""},{"$f":"IF(ISERROR(#REF!),\"\",#REF!)","v":""},{"$f":"IF(ISERROR(#REF!),\"\",#REF!)","v":""},{"$f":"IF(ISERROR(#REF!),\"\",#REF!)","v":""},{"$f":"IF(ISERROR(#REF!),\"\",#REF!)","v":""}]
[null,null,null,null,null,null,null,null,null,null,null,{"$f":"IF(ISERROR(#REF!),\"\",#REF!)","v":""},{"$f":"IF(ISERROR(#REF!),\"\",#REF!)","v":""},{"$f":"IF(ISERROR(#REF!),\"\",#REF!)","v":""},{"$f":"IF(ISERROR(#REF!),\"\",#REF!)","v":""},{"$f":"IF(ISERROR(#REF!),\"\",#REF!)","v":""}]
[]
[null,null,null,null,null,null,null,null,null,null,null,{"$f":"IF(ISERROR(#REF!),\"\",#REF!)","v":""},{"$f":"IF(ISERROR(#REF!),\"\",#REF!)","v":""},{"$f":"IF(ISERROR(#REF!),\"\",#REF!)","v":""},{"$f":"IF(ISERROR(#REF!),\"\",#REF!)","v":""},{"$f":"IF(ISERROR(#REF!),\"\",#REF!)","v":""}]
[null,null,null,null,null,null,null,null,null,null,null,{"$f":"IF(ISERROR(#REF!),\"\",#REF!)","v":""},{"$f":"IF(ISERROR(#REF!),\"\",#REF!)","v":""},{"$f":"IF(ISERROR(#REF!),\"\",#REF!)","v":""},{"$f":"IF(ISERROR(#REF!),\"\",#REF!)","v":""},{"$f":"IF(ISERROR(#REF!),\"\",#REF!)","v":""}]
[null,null,null,null,null,null,null,null,null,null,null,{"$f":"IF(ISERROR(#REF!),\"\",#REF!)","v":""},{"$f":"IF(ISERROR(#REF!),\"\",#REF!)","v":""},{"$f":"IF(ISERROR(#REF!),\"\",#REF!)","v":""},{"$f":"IF(ISERROR(#REF!),\"\",#REF!)","v":""},{"$f":"IF(ISERROR(#REF!),\"\",#REF!)","v":""}]
[null,null,null,null,null,null,null,null,null,null,null,{"$f":"IF(ISERROR(#REF!),\"\",#REF!)","v":""},{"$f":"IF(ISERROR(#REF!),\"\",#REF!)","v":""},{"$f":"IF(ISERROR(#REF!),\"\",#REF!)","v":""},{"$f":"IF(ISERROR(#REF!),\"\",#REF!)","v":""},{"$f":"IF(ISERROR(#REF!),\"\",#REF!)","v":""}]
[null,null,null,null,null,null,null,null,null,null,null,{"$f":"IF(ISERROR(#REF!),\"\",#REF!)","v":""},{"$f":"IF(ISERROR(#REF!),\"\",#REF!)","v":""},{"$f":"IF(ISERROR(#REF!),\"\",#REF!)","v":""},{"$f":"IF(ISERROR(#REF!),\"\",#REF!)","v":""},{"$f":"IF(ISERROR(#REF!),\"\",#REF!)","v":""}]
[null,null,null,null,null,null,null,null,null,null,null,{"$f":"IF(ISERROR(#REF!),\"\",#REF!)","v":""},{"$f":"IF(ISERROR(#REF!),\"\",#REF!)","v":""},{"$f":"IF(ISERROR(#REF!),\"\",#REF!)","v":""},{"$f":"IF(ISERROR(#REF!),\"\",#REF!)","v":""},{"$f":"IF(ISERROR(#REF!),\"\",#REF!)","v":""}]
[null,null,null,null,null,null,null,null,null,null,null,{"$f":"IF(ISERROR(#REF!),\"\",#REF!)","v":""},{"$f":"IF(ISERROR(#REF!),\"\",#REF!)","v":""},{"$f":"IF(ISERROR(#REF!),\"\",#REF!)","v":""},{"$f":"IF(ISERROR(#REF!),\"\",#REF!)","v":""},{"$f":"IF(ISERROR(#REF!),\"\",#REF!)","v":""}]
[]
[null,null,null,null,null,null,null,null,null,null,null,{"$f":"IF(ISERROR(#REF!),\"\",#REF!)","v":""},{"$f":"IF(ISERROR(#REF!),\"\",#REF!)","v":""},{"$f":"IF(ISERROR(#REF!),\"\",#REF!)","v":""},{"$f":"IF(ISERROR(#REF!),\"\",#REF!)","v":""},{"$f":"IF(ISERROR(#REF!),\"\",#REF!)","v":""}]
[null,null,null,null,null,null,null,null,null,null,null,{"$f":"IF(ISERROR(#REF!),\"\",#REF!)","v":""},{"$f":"IF(ISERROR(#REF!),\"\",#REF!)","v":""},{"$f":"IF(ISERROR(#REF!),\"\",#REF!)","v":""},{"$f":"IF(ISERROR(#REF!),\"\",#REF!)","v":""},{"$f":"IF(ISERROR(#REF!),\"\",#REF!)","v":""}]
[null,null,null,null,null,null,null,null,null,null,null,{"$f":"IF(ISERROR(#REF!),\"\",#REF!)","v":""},{"$f":"IF(ISERROR(#REF!),\"\",#REF!)","v":""},{"$f":"IF(ISERROR(#REF!),\"\",#REF!)","v":""},{"$f":"IF(ISERROR(#REF!),\"\",#REF!)","v":""},{"$f":"IF(ISERROR(#REF!),\"\",#REF!)","v":""}]
[null,null,null,null,null,null,null,null,null,null,null,{"$f":"IF(ISERROR(#REF!),\"\",#REF!)","v":""},{"$f":"IF(ISERROR(#REF!),\"\",#REF!)","v":""},{"$f":"IF(ISERROR(#REF!),\"\",#REF!)","v":""},{"$f":"IF(ISERROR(#REF!),\"\",#REF!)","v":""},{"$f":"IF(ISERROR(#REF!),\"\",#REF!)","v":""}]
[null,null,null,null,null,null,null,null,null,null,null,{"$f":"IF(ISERROR(#REF!),\"\",#REF!)","v":""},{"$f":"IF(ISERROR(#REF!),\"\",#REF!)","v":""},{"$f":"IF(ISERROR(#REF!),\"\",#REF!)","v":""},{"$f":"IF(ISERROR(#REF!),\"\",#REF!)","v":""},{"$f":"IF(ISERROR(#REF!),\"\",#REF!)","v":""}]
[null,null,null,null,null,null,null,null,null,null,null,{"$f":"IF(ISERROR(#REF!),\"\",#REF!)","v":""},{"$f":"IF(ISERROR(#REF!),\"\",#REF!)","v":""},{"$f":"IF(ISERROR(#REF!),\"\",#REF!)","v":""},{"$f":"IF(ISERROR(#REF!),\"\",#REF!)","v":""},{"$f":"IF(ISERROR(#REF!),\"\",#REF!)","v":""}]
[null,null,null,null,null,null,null,null,null,null,null,{"$f":"IF(ISERROR(#REF!),\"\",#REF!)","v":""},{"$f":"IF(ISERROR(#REF!),\"\",#REF!)","v":""},{"$f":"IF(ISERROR(#REF!),\"\",#REF!)","v":""},{"$f":"IF(ISERROR(#REF!),\"\",#REF!)","v":""},{"$f":"IF(ISERROR(#REF!),\"\",#REF!)","v":""}]
[null,null,null,null,null,null,null,null,null,null,null,{"$f":"IF(ISERROR(#REF!),\"\",#REF!)","v":""},{"$f":"IF(ISERROR(#REF!),\"\",#REF!)","v":""},{"$f":"IF(ISERROR(#REF!),\"\",#REF!)","v":""},{"$f":"IF(ISERROR(#REF!),\"\",#REF!)","v":""},{"$f":"IF(ISERROR(#REF!),\"\",#REF!)","v":""}]
[null,null,null,null,null,null,null,null,null,null,null,{"$f":"IF(ISERROR(#REF!),\"\",#REF!)","v":""},{"$f":"IF(ISERROR(#REF!),\"\",#REF!)","v":""},{"$f":"IF(ISERROR(#REF!),\"\",#REF!)","v":""},{"$f":"IF(ISERROR(#REF!),\"\",#REF!)","v":""},{"$f":"IF(ISERROR(#REF!),\"\",#REF!)","v":""}]
[null,null,null,null,null,null,null,null,null,null,null,{"$f":"IF(ISERROR(#REF!),\"\",#REF!)","v":""},{"$f":"IF(ISERROR(#REF!),\"\",#REF!)","v":""},{"$f":"IF(ISERROR(#REF!),\"\",#REF!)","v":""},{"$f":"IF(ISERROR(#REF!),\"\",#REF!)","v":""},{"$f":"IF(ISERROR(#REF!),\"\",#REF!)","v":""}]
[null,null,null,null,null,null,null,null,null,null,null,{"$f":"IF(ISERROR(#REF!),\"\",#REF!)","v":""},{"$f":"IF(ISERROR(#REF!),\"\",#REF!)","v":""},{"$f":"IF(ISERROR(#REF!),\"\",#REF!)","v":""},{"$f":"IF(ISERROR(#REF!),\"\",#REF!)","v":""},{"$f":"IF(ISERROR(#REF!),\"\",#REF!)","v":""}]
[null,null,null,null,null,null,null,null,null,null,null,{"$f":"IF(ISERROR(#REF!),\"\",#REF!)","v":""},{"$f":"IF(ISERROR(#REF!),\"\",#REF!)","v":""},{"$f":"IF(ISERROR(#REF!),\"\",#REF!)","v":""},{"$f":"IF(ISERROR(#REF!),\"\",#REF!)","v":""},{"$f":"IF(ISERROR(#REF!),\"\",#REF!)","v":""}]
[null,null,null,null,null,null,null,null,null,null,null,{"$f":"IF(ISERROR(#REF!),\"\",#REF!)","v":""},{"$f":"IF(ISERROR(#REF!),\"\",#REF!)","v":""},{"$f":"IF(ISERROR(#REF!),\"\",#REF!)","v":""},{"$f":"IF(ISERROR(#REF!),\"\",#REF!)","v":""},{"$f":"IF(ISERROR(#REF!),\"\",#REF!)","v":""}]
[]
[null,null,null,null,null,null,null,null,null,null,null,{"$f":"IF(ISERROR(#REF!),\"\",#REF!)","v":""},{"$f":"IF(ISERROR(#REF!),\"\",#REF!)","v":""},{"$f":"IF(ISERROR(#REF!),\"\",#REF!)","v":""},{"$f":"IF(ISERROR(#REF!),\"\",#REF!)","v":""},{"$f":"IF(ISERROR(#REF!),\"\",#REF!)","v":""}]
[null,null,null,null,null,null,null,null,null,null,null,{"$f":"IF(ISERROR(#REF!),\"\",#REF!)","v":""},{"$f":"IF(ISERROR(#REF!),\"\",#REF!)","v":""},{"$f":"IF(ISERROR(#REF!),\"\",#REF!)","v":""},{"$f":"IF(ISERROR(#REF!),\"\",#REF!)","v":""},{"$f":"IF(ISERROR(#REF!),\"\",#REF!)","v":""}]
[null,null,null,null,null,null,null,null,null,null,null,{"$f":"IF(ISERROR(#REF!),\"\",#REF!)","v":""},{"$f":"IF(ISERROR(#REF!),\"\",#REF!)","v":""},{"$f":"IF(ISERROR(#REF!),\"\",#REF!)","v":""},{"$f":"IF(ISERROR(#REF!),\"\",#REF!)","v":""},{"$f":"IF(ISERROR(#REF!),\"\",#REF!)","v":""}]
[null,null,null,null,null,null,null,null,null,null,null,{"$f":"IF(ISERROR(#REF!),\"\",#REF!)","v":""},{"$f":"IF(ISERROR(#REF!),\"\",#REF!)","v":""},{"$f":"IF(ISERROR(#REF!),\"\",#REF!)","v":""},{"$f":"IF(ISERROR(#REF!),\"\",#REF!)","v":""},{"$f":"IF(ISERROR(#REF!),\"\",#REF!)","v":""}]
[null,null,null,null,null,null,null,null,null,null,null,{"$f":"IF(ISERROR(#REF!),\"\",#REF!)","v":""},{"$f":"IF(ISERROR(#REF!),\"\",#REF!)","v":""},{"$f":"IF(ISERROR(#REF!),\"\",#REF!)","v":""},{"$f":"IF(ISERROR(#REF!),\"\",#REF!)","v":""},{"$f":"IF(ISERROR(#REF!),\"\",#REF!)","v":""}]
[]
[null,null,null,null,null,null,null,null,null,null,null,{"$f":"IF(ISERROR(#REF!),\"\",#REF!)","v":""},{"$f":"IF(ISERROR(#REF!),\"\",#REF!)","v":""},{"$f":"IF(ISERROR(#REF!),\"\",#REF!)","v":""},{"$f":"IF(ISERROR(#REF!),\"\",#REF!)","v":""},{"$f":"IF(ISERROR(#REF!),\"\",#REF!)","v":""}]
[null,null,null,null,null,null,null,null,null,null,null,{"$f":"IF(ISERROR(#REF!),\"\",#REF!)","v":""},{"$f":"IF(ISERROR(#REF!),\"\",#REF!)","v":""},{"$f":"IF(ISERROR(#REF!),\"\",#REF!)","v":""},{"$f":"IF(ISERROR(#REF!),\"\",#REF!)","v":""},{"$f":"IF(ISERROR(#REF!),\"\",#REF!)","v":""}]
[null,null,null,null,null,null,null,null,null,null,null,{"$f":"IF(ISERROR(#REF!),\"\",#REF!)","v":""},{"$f":"IF(ISERROR(#REF!),\"\",#REF!)","v":""},{"$f":"IF(ISERROR(#REF!),\"\",#REF!)","v":""},{"$f":"IF(ISERROR(#REF!),\"\",#REF!)","v":""},{"$f":"IF(ISERROR(#REF!),\"\",#REF!)","v":""}]
[null,null,null,null,null,null,null,null,null,null,null,{"$f":"IF(ISERROR(#REF!),\"\",#REF!)","v":""},{"$f":"IF(ISERROR(#REF!),\"\",#REF!)","v":""},{"$f":"IF(ISERROR(#REF!),\"\",#REF!)","v":""},{"$f":"IF(ISERROR(#REF!),\"\",#REF!)","v":""},{"$f":"IF(ISERROR(#REF!),\"\",#REF!)","v":""}]
[null,null,null,null,null,null,null,null,null,null,null,{"$f":"IF(ISERROR(#REF!),\"\",#REF!)","v":""},{"$f":"IF(ISERROR(#REF!),\"\",#REF!)","v":""},{"$f":"IF(ISERROR(#REF!),\"\",#REF!)","v":""},{"$f":"IF(ISERROR(#REF!),\"\",#REF!)","v":""},{"$f":"IF(ISERROR(#REF!),\"\",#REF!)","v":""}]
[null,null,null,null,null,null,null,null,null,null,null,{"$f":"IF(ISERROR(#REF!),\"\",#REF!)","v":""},{"$f":"IF(ISERROR(#REF!),\"\",#REF!)","v":""},{"$f":"IF(ISERROR(#REF!),\"\",#REF!)","v":""},{"$f":"IF(ISERROR(#REF!),\"\",#REF!)","v":""},{"$f":"IF(ISERROR(#REF!),\"\",#REF!)","v":""}]
[null,null,null,null,null,null,null,null,null,null,null,{"$f":"IF(ISERROR(#REF!),\"\",#REF!)","v":""},{"$f":"IF(ISERROR(#REF!),\"\",#REF!)","v":""},{"$f":"IF(ISERROR(#REF!),\"\",#REF!)","v":""},{"$f":"IF(ISERROR(#REF!),\"\",#REF!)","v":""},{"$f":"IF(ISERROR(#REF!),\"\",#REF!)","v":""}]
[null,null,null,null,null,null,null,null,null,null,null,{"$f":"IF(ISERROR(#REF!),\"\",#REF!)","v":""},{"$f":"IF(ISERROR(#REF!),\"\",#REF!)","v":""},{"$f":"IF(ISERROR(#REF!),\"\",#REF!)","v":""},{"$f":"IF(ISERROR(#REF!),\"\",#REF!)","v":""},{"$f":"IF(ISERROR(#REF!),\"\",#REF!)","v":""}]
[null,null,null,null,null,null,null,null,null,null,null,{"$f":"IF(ISERROR(#REF!),\"\",#REF!)","v":""},{"$f":"IF(ISERROR(#REF!),\"\",#REF!)","v":""},{"$f":"IF(ISERROR(#REF!),\"\",#REF!)","v":""},{"$f":"IF(ISERROR(#REF!),\"\",#REF!)","v":""},{"$f":"IF(ISERROR(#REF!),\"\",#REF!)","v":""}]
[null,null,null,null,null,null,null,null,null,null,null,{"$f":"IF(ISERROR(#REF!),\"\",#REF!)","v":""},{"$f":"IF(ISERROR(#REF!),\"\",#REF!)","v":""},{"$f":"IF(ISERROR(#REF!),\"\",#REF!)","v":""},{"$f":"IF(ISERROR(#REF!),\"\",#REF!)","v":""},{"$f":"IF(ISERROR(#REF!),\"\",#REF!)","v":""}]
[null,null,null,null,null,null,null,null,null,null,null,{"$f":"IF(ISERROR(#REF!),\"\",#REF!)","v":""},{"$f":"IF(ISERROR(#REF!),\"\",#REF!)","v":""},{"$f":"IF(ISERROR(#REF!),\"\",#REF!)","v":""},{"$f":"IF(ISERROR(#REF!),\"\",#REF!)","v":""},{"$f":"IF(ISERROR(#REF!),\"\",#REF!)","v":""}]
[null,null,null,null,null,null,null,null,null,null,null,{"$f":"IF(ISERROR(#REF!),\"\",#REF!)","v":""},{"$f":"IF(ISERROR(#REF!),\"\",#REF!)","v":""},{"$f":"IF(ISERROR(#REF!),\"\",#REF!)","v":""},{"$f":"IF(ISERROR(#REF!),\"\",#REF!)","v":""},{"$f":"IF(ISERROR(#REF!),\"\",#REF!)","v":""}]
[null,null,null,null,null,null,null,null,null,null,null,{"$f":"IF(ISERROR(#REF!),\"\",#REF!)","v":""},{"$f":"IF(ISERROR(#REF!),\"\",#REF!)","v":""},{"$f":"IF(ISERROR(#REF!),\"\",#REF!)","v":""},{"$f":"IF(ISERROR(#REF!),\"\",#REF!)","v":""},{"$f":"IF(ISERROR(#REF!),\"\",#REF!)","v":""}]
[null,null,null,null,null,null,null,null,null,null,null,{"$f":"IF(ISERROR(#REF!),\"\",#REF!)","v":""},{"$f":"IF(ISERROR(#REF!),\"\",#REF!)","v":""},{"$f":"IF(ISERROR(#REF!),\"\",#REF!)","v":""},{"$f":"IF(ISERROR(#REF!),\"\",#REF!)","v":""},{"$f":"IF(ISERROR(#REF!),\"\",#REF!)","v":""}]
[null,null,null,null,null,null,null,null,null,null,null,{"$f":"IF(ISERROR(#REF!),\"\",#REF!)","v":""},{"$f":"IF(ISERROR(#REF!),\"\",#REF!)","v":""},{"$f":"IF(ISERROR(#REF!),\"\",#REF!)","v":""},{"$f":"IF(ISERROR(#REF!),\"\",#REF!)","v":""},{"$f":"IF(ISERROR(#REF!),\"\",#REF!)","v":""}]
[null,null,null,null,null,null,null,null,null,null,null,{"$f":"IF(ISERROR(#REF!),\"\",#REF!)","v":""},{"$f":"IF(ISERROR(#REF!),\"\",#REF!)","v":""},{"$f":"IF(ISERROR(#REF!),\"\",#REF!)","v":""},{"$f":"IF(ISERROR(#REF!),\"\",#REF!)","v":""},{"$f":"IF(ISERROR(#REF!),\"\",#REF!)","v":""}]
[null,null,null,null,null,null,null,null,null,null,null,{"$f":"IF(ISERROR(#REF!),\"\",#REF!)","v":""},{"$f":"IF(ISERROR(#REF!),\"\",#REF!)","v":""},{"$f":"IF(ISERROR(#REF!),\"\",#REF!)","v":""},{"$f":"IF(ISERROR(#REF!),\"\",#REF!)","v":""},{"$f":"IF(ISERROR(#REF!),\"\",#REF!)","v":""}]
[]
[null,null,null,null,null,null,null,null,null,null,null,{"$f":"IF(ISERROR(#REF!),\"\",#REF!)","v":""},{"$f":"IF(ISERROR(#REF!),\"\",#REF!)","v":""},{"$f":"IF(ISERROR(#REF!),\"\",#REF!)","v":""},{"$f":"IF(ISERROR(#REF!),\"\",#REF!)","v":""},{"$f":"IF(ISERROR(#REF!),\"\",#REF!)","v":""}]
[]
[null,null,null,null,null,null,null,null,null,null,null,{"$f":"IF(ISERROR(#REF!),\"\",#REF!)","v":""},{"$f":"IF(ISERROR(#REF!),\"\",#REF!)","v":""},{"$f":"IF(ISERROR(#REF!),\"\",#REF!)","v":""},{"$f":"IF(ISERROR(#REF!),\"\",#REF!)","v":""},{"$f":"IF(ISERROR(#REF!),\"\",#REF!)","v":""}]
[null,null,null,null,null,null,null,null,null,null,null,{"$f":"IF(ISERROR(#REF!),\"\",#REF!)","v":""},{"$f":"IF(ISERROR(#REF!),\"\",#REF!)","v":""},{"$f":"IF(ISERROR(#REF!),\"\",#REF!)","v":""},{"$f":"IF(ISERROR(#REF!),\"\",#REF!)","v":""},{"$f":"IF(ISERROR(#REF!),\"\",#REF!)","v":""}]
[null,null,null,null,null,null,null,null,null,null,null,{"$f":"IF(ISERROR(#REF!),\"\",#REF!)","v":""},{"$f":"IF(ISERROR(#REF!),\"\",#REF!)","v":""},{"$f":"IF(ISERROR(#REF!),\"\",#REF!)","v":""},{"$f":"IF(ISERROR(#REF!),\"\",#REF!)","v":""},{"$f":"IF(ISERROR(#REF!),\"\",#REF!)","v":""}]
[null,null,null,null,null,null,null,null,null,null,null,{"$f":"IF(ISERROR(#REF!),\"\",#REF!)","v":""},{"$f":"IF(ISERROR(#REF!),\"\",#REF!)","v":""},{"$f":"IF(ISERROR(#REF!),\"\",#REF!)","v":""},{"$f":"IF(ISERROR(#REF!),\"\",#REF!)","v":""},{"$f":"IF(ISERROR(#REF!),\"\",#REF!)","v":""}]

{"sheet":"sample","index":1,"n_rows":151,"n_cols":16,"rows_kept":151,"cut":false,"hidden":false,"merged":[[2,13,2,14],[2,0,3,0],[2,1,3,1],[2,2,2,3],[2,4,2,5],[2,6,2,7],[2,11,2,12]]}
["高度角補正計算"]
[]
["器械点","視準点","器械高",null,"目標高",null,"観測高度角",null,"器械高","反射鏡高","測定距離","補正数(①②)",null,"補正済高低角(③)",null,"平均"]
[null,null,"i1","i2","f1","f2","α1","α2","g","m","D","dα1","dα2","α1'","α2'","(α1'-α2')/2"]
["H21T-6","T-11",1.446,1.464,1.478,1.508,0.32269999999999999,-0.26429999999999998,1.446,1.508,44.417000000000002,0,-5.5292026766047345E-2,0.32269999999999999,-0.32359202676604737,0.32314601338302362]
[null,"H21KT-7",1.446,1.4930000000000001,1.498,1.5129999999999999,-1.1443000000000001,1.1735,1.446,1.5129999999999999,82.224999999999994,0,-3.0056900150070807E-2,-1.1443000000000001,1.1434430998499292,-1.1438715499249645]
["H21KT-7","H21T-6",1.4930000000000001,1.446,1.5129999999999999,1.498,1.1735,-1.1443000000000001,1.4930000000000001,1.498,82.224999999999994,0,-3.0057233743680901E-2,1.1735,-1.174357233743681,1.1739286168718404]
[null,"T-12",1.4930000000000001,1.4510000000000001,1.4950000000000001,1.4390000000000001,-0.42299999999999999,0.41420000000000001,1.4930000000000001,1.4390000000000001,76.200999999999993,0,2.7066525681704455E-3,-0.42299999999999993,0.42090665256817045,-0.42195332628408522]
["T-12","H21KT-7",1.4510000000000001,1.4930000000000001,1.4390000000000001,1.4950000000000001,0.41420000000000001,-0.42299999999999999,1.4510000000000001,1.4950000000000001,76.2,0,2.7066803744746569E-3,0.41420000000000001,-0.4202933196255253,0.41524665981276265]
[null,"A187",1.4510000000000001,1.4,1.47,1.41,-0.1615,0.1857,1.4510000000000001,1.41,48.473999999999997,0,-2.0339788049565377E-2,-0.1615,0.1653602119504346,-0.16343010597521732]
["A187","T-12",1.4,1.4510000000000001,1.41,1.47,0.1857,-0.1615,1.4,1.47,48.472000000000001,0,-2.0340346821067289E-2,0.18569999999999998,-0.18184034682106728,0.18377017341053362]
["T-11","T-10",1.464,1.4590000000000001,1.4970000000000001,0.1,-1.2527999999999999,-0.10050000000000001,1.464,0.1,47.732999999999997,0,1.3530650618988085,-1.2527999999999999,1.2525650618988087,-1.2526825309494043]
[null,"H21T-6",1.464,1.446,1.508,1.478,-0.26429999999999998,0.32269999999999999,1.464,1.478,44.417999999999999,0,-5.5290725719543438E-2,-0.26429999999999998,0.26340927428045657,-0.26385463714022828]
["T-10","T-11",1.4590000000000001,1.464,0.1,1.4970000000000001,-0.10050000000000001,-1.2527999999999999,1.4590000000000001,1.4970000000000001,47.718000000000004,0,1.3530705225742448,-0.10050000000000001,0.10027052257424482,-0.1003852612871224]
[null,"T-9",1.4590000000000001,1.44,1.466,1.464,0.1145,-0.1013,1.4590000000000001,1.464,59.212000000000003,0,-1.4798792555900296E-2,0.1145,-0.12009879255590029,0.11529939627795015]
["T-9","T-10",1.44,1.4590000000000001,1.464,1.466,-0.1013,0.1145,1.44,1.466,59.213999999999999,0,-1.479841242995961E-2,-0.1013,9.5701587570040381E-2,-0.10050079378502021]
[null,"H21KT-2",1.44,1.4670000000000001,1.4750000000000001,1.61,-0.30580000000000002,0.4047,1.44,1.61,58.015999999999998,0,-0.10328014597289882,-0.30579999999999996,0.3014198540271012,-0.30360992701355055]
[]
[]
[null,null,null,null,null,null,null,null,null,null,null,null,null,null,null,{"$f":"IF(ISERROR(#REF!),\"\",#REF!)","v":""}]
[null,null,null,null,null,null,null,null,null,null,null,null,null,null,null,{"$f":"IF(ISERROR(#REF!),\"\",#REF!)","v":""}]
[]
[]
[null,null,null,null,null,null,null,null,null,null,null,null,null,null,null,{"$f":"IF(ISERROR(#REF!),\"\",#REF!)","v":""}]
[null,null,null,null,null,null,null,null,null,null,null,null,null,null,null,{"$f":"IF(ISERROR(#REF!),\"\",#REF!)","v":""}]
[]
[]
[]
[]
[]
[]
[]
[]
[]
[]
[]
[]
[]
[]
[]
[]
[]
[]
[]
[]
[]
[]
[]
[]
[]
[]
[]
[]
[]
[]
[]
[]
[]
[]
[]
[]
[]
[null,null,null,null,null,null,null,null,null,null,null,null,null,{"$f":"IF(ISERROR(#REF!),\"\",#REF!)","v":""},{"$f":"IF(ISERROR(#REF!),\"\",#REF!)","v":""},{"$f":"IF(ISERROR(#REF!),\"\",#REF!)","v":""}]
[null,null,null,null,null,null,null,null,null,null,null,null,null,{"$f":"IF(ISERROR(#REF!),\"\",#REF!)","v":""},{"$f":"IF(ISERROR(#REF!),\"\",#REF!)","v":""},{"$f":"IF(ISERROR(#REF!),\"\",#REF!)","v":""}]
[null,null,null,null,null,null,null,null,null,null,null,null,null,{"$f":"IF(ISERROR(#REF!),\"\",#REF!)","v":""},{"$f":"IF(ISERROR(#REF!),\"\",#REF!)","v":""},{"$f":"IF(ISERROR(#REF!),\"\",#REF!)","v":""}]
[null,null,null,null,null,null,null,null,null,null,null,null,null,{"$f":"IF(ISERROR(#REF!),\"\",#REF!)","v":""},{"$f":"IF(ISERROR(#REF!),\"\",#REF!)","v":""},{"$f":"IF(ISERROR(#REF!),\"\",#REF!)","v":""}]
[null,null,null,null,null,null,null,null,null,null,null,{"$f":"IF(ISERROR(#REF!),\"\",#REF!)","v":""},{"$f":"IF(ISERROR(#REF!),\"\",#REF!)","v":""},{"$f":"IF(ISERROR(#REF!),\"\",#REF!)","v":""},{"$f":"IF(ISERROR(#REF!),\"\",#REF!)","v":""},{"$f":"IF(ISERROR(#REF!),\"\",#REF!)","v":""}]
[null,null,null,null,null,null,null,null,null,null,null,{"$f":"IF(ISERROR(#REF!),\"\",#REF!)","v":""},{"$f":"IF(ISERROR(#REF!),\"\",#REF!)","v":""},{"$f":"IF(ISERROR(#REF!),\"\",#REF!)","v":""},{"$f":"IF(ISERROR(#REF!),\"\",#REF!)","v":""},{"$f":"IF(ISERROR(#REF!),\"\",#REF!)","v":""}]
[null,null,null,null,null,null,null,null,null,null,null,{"$f":"IF(ISERROR(#REF!),\"\",#REF!)","v":""},{"$f":"IF(ISERROR(#REF!),\"\",#REF!)","v":""},{"$f":"IF(ISERROR(#REF!),\"\",#REF!)","v":""},{"$f":"IF(ISERROR(#REF!),\"\",#REF!)","v":""},{"$f":"IF(ISERROR(#REF!),\"\",#REF!)","v":""}]
[null,null,null,null,null,null,null,null,null,null,null,{"$f":"IF(ISERROR(#REF!),\"\",#REF!)","v":""},{"$f":"IF(ISERROR(#REF!),\"\",#REF!)","v":""},{"$f":"IF(ISERROR(#REF!),\"\",#REF!)","v":""},{"$f":"IF(ISERROR(#REF!),\"\",#REF!)","v":""},{"$f":"IF(ISERROR(#REF!),\"\",#REF!)","v":""}]
[null,null,null,null,null,null,null,null,null,null,null,{"$f":"IF(ISERROR(#REF!),\"\",#REF!)","v":""},{"$f":"IF(ISERROR(#REF!),\"\",#REF!)","v":""},{"$f":"IF(ISERROR(#REF!),\"\",#REF!)","v":""},{"$f":"IF(ISERROR(#REF!),\"\",#REF!)","v":""},{"$f":"IF(ISERROR(#REF!),\"\",#REF!)","v":""}]
[null,null,null,null,null,null,null,null,null,null,null,{"$f":"IF(ISERROR(#REF!),\"\",#REF!)","v":""},{"$f":"IF(ISERROR(#REF!),\"\",#REF!)","v":""},{"$f":"IF(ISERROR(#REF!),\"\",#REF!)","v":""},{"$f":"IF(ISERROR(#REF!),\"\",#REF!)","v":""},{"$f":"IF(ISERROR(#REF!),\"\",#REF!)","v":""}]
[null,null,null,null,null,null,null,null,null,null,null,{"$f":"IF(ISERROR(#REF!),\"\",#REF!)","v":""},{"$f":"IF(ISERROR(#REF!),\"\",#REF!)","v":""},{"$f":"IF(ISERROR(#REF!),\"\",#REF!)","v":""},{"$f":"IF(ISERROR(#REF!),\"\",#REF!)","v":""},{"$f":"IF(ISERROR(#REF!),\"\",#REF!)","v":""}]
[null,null,null,null,null,null,null,null,null,null,null,{"$f":"IF(ISERROR(#REF!),\"\",#REF!)","v":""},{"$f":"IF(ISERROR(#REF!),\"\",#REF!)","v":""},{"$f":"IF(ISERROR(#REF!),\"\",#REF!)","v":""},{"$f":"IF(ISERROR(#REF!),\"\",#REF!)","v":""},{"$f":"IF(ISERROR(#REF!),\"\",#REF!)","v":""}]
[null,null,null,null,null,null,null,null,null,null,null,{"$f":"IF(ISERROR(#REF!),\"\",#REF!)","v":""},{"$f":"IF(ISERROR(#REF!),\"\",#REF!)","v":""},{"$f":"IF(ISERROR(#REF!),\"\",#REF!)","v":""},{"$f":"IF(ISERROR(#REF!),\"\",#REF!)","v":""},{"$f":"IF(ISERROR(#REF!),\"\",#REF!)","v":""}]
[null,null,null,null,null,null,null,null,null,null,null,{"$f":"IF(ISERROR(#REF!),\"\",#REF!)","v":""},{"$f":"IF(ISERROR(#REF!),\"\",#REF!)","v":""},{"$f":"IF(ISERROR(#REF!),\"\",#REF!)","v":""},{"$f":"IF(ISERROR(#REF!),\"\",#REF!)","v":""},{"$f":"IF(ISERROR(#REF!),\"\",#REF!)","v":""}]
[null,null,null,null,null,null,null,null,null,null,null,{"$f":"IF(ISERROR(#REF!),\"\",#REF!)","v":""},{"$f":"IF(ISERROR(#REF!),\"\",#REF!)","v":""},{"$f":"IF(ISERROR(#REF!),\"\",#REF!)","v":""},{"$f":"IF(ISERROR(#REF!),\"\",#REF!)","v":""},{"$f":"IF(ISERROR(#REF!),\"\",#REF!)","v":""}]
[null,null,null,null,null,null,null,null,null,null,null,{"$f":"IF(ISERROR(#REF!),\"\",#REF!)","v":""},{"$f":"IF(ISERROR(#REF!),\"\",#REF!)","v":""},{"$f":"IF(ISERROR(#REF!),\"\",#REF!)","v":""},{"$f":"IF(ISERROR(#REF!),\"\",#REF!)","v":""},{"$f":"IF(ISERROR(#REF!),\"\",#REF!)","v":""}]
[]
[null,null,null,null,null,null,null,null,null,null,null,{"$f":"IF(ISERROR(#REF!),\"\",#REF!)","v":""},{"$f":"IF(ISERROR(#REF!),\"\",#REF!)","v":""},{"$f":"IF(ISERROR(#REF!),\"\",#REF!)","v":""},{"$f":"IF(ISERROR(#REF!),\"\",#REF!)","v":""},{"$f":"IF(ISERROR(#REF!),\"\",#REF!)","v":""}]
[null,null,null,null,null,null,null,null,null,null,null,{"$f":"IF(ISERROR(#REF!),\"\",#REF!)","v":""},{"$f":"IF(ISERROR(#REF!),\"\",#REF!)","v":""},{"$f":"IF(ISERROR(#REF!),\"\",#REF!)","v":""},{"$f":"IF(ISERROR(#REF!),\"\",#REF!)","v":""},{"$f":"IF(ISERROR(#REF!),\"\",#REF!)","v":""}]
[null,null,null,null,null,null,null,null,null,null,null,{"$f":"IF(ISERROR(#REF!),\"\",#REF!)","v":""},{"$f":"IF(ISERROR(#REF!),\"\",#REF!)","v":""},{"$f":"IF(ISERROR(#REF!),\"\",#REF!)","v":""},{"$f":"IF(ISERROR(#REF!),\"\",#REF!)","v":""},{"$f":"IF(ISERROR(#REF!),\"\",#REF!)","v":""}]
[null,null,null,null,null,null,null,null,null,null,null,{"$f":"IF(ISERROR(#REF!),\"\",#REF!)","v":""},{"$f":"IF(ISERROR(#REF!),\"\",#REF!)","v":""},{"$f":"IF(ISERROR(#REF!),\"\",#REF!)","v":""},{"$f":"IF(ISERROR(#REF!),\"\",#REF!)","v":""},{"$f":"IF(ISERROR(#REF!),\"\",#REF!)","v":""}]
[]
[null,null,null,null,null,null,null,null,null,null,null,{"$f":"IF(ISERROR(#REF!),\"\",#REF!)","v":""},{"$f":"IF(ISERROR(#REF!),\"\",#REF!)","v":""},{"$f":"IF(ISERROR(#REF!),\"\",#REF!)","v":""},{"$f":"IF(ISERROR(#REF!),\"\",#REF!)","v":""},{"$f":"IF(ISERROR(#REF!),\"\",#REF!)","v":""}]
[null,null,null,null,null,null,null,null,null,null,null,{"$f":"IF(ISERROR(#REF!),\"\",#REF!)","v":""},{"$f":"IF(ISERROR(#REF!),\"\",#REF!)","v":""},{"$f":"IF(ISERROR(#REF!),\"\",#REF!)","v":""},{"$f":"IF(ISERROR(#REF!),\"\",#REF!)","v":""},{"$f":"IF(ISERROR(#REF!),\"\",#REF!)","v":""}]
[null,null,null,null,null,null,null,null,null,null,null,{"$f":"IF(ISERROR(#REF!),\"\",#REF!)","v":""},{"$f":"IF(ISERROR(#REF!),\"\",#REF!)","v":""},{"$f":"IF(ISERROR(#REF!),\"\",#REF!)","v":""},{"$f":"IF(ISERROR(#REF!),\"\",#REF!)","v":""},{"$f":"IF(ISERROR(#REF!),\"\",#REF!)","v":""}]
[null,null,null,null,null,null,null,null,null,null,null,{"$f":"IF(ISERROR(#REF!),\"\",#REF!)","v":""},{"$f":"IF(ISERROR(#REF!),\"\",#REF!)","v":""},{"$f":"IF(ISERROR(#REF!),\"\",#REF!)","v":""},{"$f":"IF(ISERROR(#REF!),\"\",#REF!)","v":""},{"$f":"IF(ISERROR(#REF!),\"\",#REF!)","v":""}]
[null,null,null,null,null,null,null,null,null,null,null,{"$f":"IF(ISERROR(#REF!),\"\",#REF!)","v":""},{"$f":"IF(ISERROR(#REF!),\"\",#REF!)","v":""},{"$f":"IF(ISERROR(#REF!),\"\",#REF!)","v":""},{"$f":"IF(ISERROR(#REF!),\"\",#REF!)","v":""},{"$f":"IF(ISERROR(#REF!),\"\",#REF!)","v":""}]
[null,null,null,null,null,null,null,null,null,null,null,{"$f":"IF(ISERROR(#REF!),\"\",#REF!)","v":""},{"$f":"IF(ISERROR(#REF!),\"\",#REF!)","v":""},{"$f":"IF(ISERROR(#REF!),\"\",#REF!)","v":""},{"$f":"IF(ISERROR(#REF!),\"\",#REF!)","v":""},{"$f":"IF(ISERROR(#REF!),\"\",#REF!)","v":""}]
[null,null,null,null,null,null,null,null,null,null,null,{"$f":"IF(ISERROR(#REF!),\"\",#REF!)","v":""},{"$f":"IF(ISERROR(#REF!),\"\",#REF!)","v":""},{"$f":"IF(ISERROR(#REF!),\"\",#REF!)","v":""},{"$f":"IF(ISERROR(#REF!),\"\",#REF!)","v":""},{"$f":"IF(ISERROR(#REF!),\"\",#REF!)","v":""}]
[null,null,null,null,null,null,null,null,null,null,null,{"$f":"IF(ISERROR(#REF!),\"\",#REF!)","v":""},{"$f":"IF(ISERROR(#REF!),\"\",#REF!)","v":""},{"$f":"IF(ISERROR(#REF!),\"\",#REF!)","v":""},{"$f":"IF(ISERROR(#REF!),\"\",#REF!)","v":""},{"$f":"IF(ISERROR(#REF!),\"\",#REF!)","v":""}]
[null,null,null,null,null,null,null,null,null,null,null,{"$f":"IF(ISERROR(#REF!),\"\",#REF!)","v":""},{"$f":"IF(ISERROR(#REF!),\"\",#REF!)","v":""},{"$f":"IF(ISERROR(#REF!),\"\",#REF!)","v":""},{"$f":"IF(ISERROR(#REF!),\"\",#REF!)","v":""},{"$f":"IF(ISERROR(#REF!),\"\",#REF!)","v":""}]
[null,null,null,null,null,null,null,null,null,null,null,{"$f":"IF(ISERROR(#REF!),\"\",#REF!)","v":""},{"$f":"IF(ISERROR(#REF!),\"\",#REF!)","v":""},{"$f":"IF(ISERROR(#REF!),\"\",#REF!)","v":""},{"$f":"IF(ISERROR(#REF!),\"\",#REF!)","v":""},{"$f":"IF(ISERROR(#REF!),\"\",#REF!)","v":""}]
[null,null,null,null,null,null,null,null,null,null,null,{"$f":"IF(ISERROR(#REF!),\"\",#REF!)","v":""},{"$f":"IF(ISERROR(#REF!),\"\",#REF!)","v":""},{"$f":"IF(ISERROR(#REF!),\"\",#REF!)","v":""},{"$f":"IF(ISERROR(#REF!),\"\",#REF!)","v":""},{"$f":"IF(ISERROR(#REF!),\"\",#REF!)","v":""}]
[null,null,null,null,null,null,null,null,null,null,null,{"$f":"IF(ISERROR(#REF!),\"\",#REF!)","v":""},{"$f":"IF(ISERROR(#REF!),\"\",#REF!)","v":""},{"$f":"IF(ISERROR(#REF!),\"\",#REF!)","v":""},{"$f":"IF(ISERROR(#REF!),\"\",#REF!)","v":""},{"$f":"IF(ISERROR(#REF!),\"\",#REF!)","v":""}]
[null,null,null,null,null,null,null,null,null,null,null,{"$f":"IF(ISERROR(#REF!),\"\",#REF!)","v":""},{"$f":"IF(ISERROR(#REF!),\"\",#REF!)","v":""},{"$f":"IF(ISERROR(#REF!),\"\",#REF!)","v":""},{"$f":"IF(ISERROR(#REF!),\"\",#REF!)","v":""},{"$f":"IF(ISERROR(#REF!),\"\",#REF!)","v":""}]
[null,null,null,null,null,null,null,null,null,null,null,{"$f":"IF(ISERROR(#REF!),\"\",#REF!)","v":""},{"$f":"IF(ISERROR(#REF!),\"\",#REF!)","v":""},{"$f":"IF(ISERROR(#REF!),\"\",#REF!)","v":""},{"$f":"IF(ISERROR(#REF!),\"\",#REF!)","v":""},{"$f":"IF(ISERROR(#REF!),\"\",#REF!)","v":""}]
[]
[null,null,null,null,null,null,null,null,null,null,null,{"$f":"IF(ISERROR(#REF!),\"\",#REF!)","v":""},{"$f":"IF(ISERROR(#REF!),\"\",#REF!)","v":""},{"$f":"IF(ISERROR(#REF!),\"\",#REF!)","v":""},{"$f":"IF(ISERROR(#REF!),\"\",#REF!)","v":""},{"$f":"IF(ISERROR(#REF!),\"\",#REF!)","v":""}]
[null,null,null,null,null,null,null,null,null,null,null,{"$f":"IF(ISERROR(#REF!),\"\",#REF!)","v":""},{"$f":"IF(ISERROR(#REF!),\"\",#REF!)","v":""},{"$f":"IF(ISERROR(#REF!),\"\",#REF!)","v":""},{"$f":"IF(ISERROR(#REF!),\"\",#REF!)","v":""},{"$f":"IF(ISERROR(#REF!),\"\",#REF!)","v":""}]
[null,null,null,null,null,null,null,null,null,null,null,{"$f":"IF(ISERROR(#REF!),\"\",#REF!)","v":""},{"$f":"IF(ISERROR(#REF!),\"\",#REF!)","v":""},{"$f":"IF(ISERROR(#REF!),\"\",#REF!)","v":""},{"$f":"IF(ISERROR(#REF!),\"\",#REF!)","v":""},{"$f":"IF(ISERROR(#REF!),\"\",#REF!)","v":""}]
[null,null,null,null,null,null,null,null,null,null,null,{"$f":"IF(ISERROR(#REF!),\"\",#REF!)","v":""},{"$f":"IF(ISERROR(#REF!),\"\",#REF!)","v":""},{"$f":"IF(ISERROR(#REF!),\"\",#REF!)","v":""},{"$f":"IF(ISERROR(#REF!),\"\",#REF!)","v":""},{"$f":"IF(ISERROR(#REF!),\"\",#REF!)","v":""}]
[null,null,null,null,null,null,null,null,null,null,null,{"$f":"IF(ISERROR(#REF!),\"\",#REF!)","v":""},{"$f":"IF(ISERROR(#REF!),\"\",#REF!)","v":""},{"$f":"IF(ISERROR(#REF!),\"\",#REF!)","v":""},{"$f":"IF(ISERROR(#REF!),\"\",#REF!)","v":""},{"$f":"IF(ISERROR(#REF!),\"\",#REF!)","v":""}]
[null,null,null,null,null,null,null,null,null,null,null,{"$f":"IF(ISERROR(#REF!),\"\",#REF!)","v":""},{"$f":"IF(ISERROR(#REF!),\"\",#REF!)","v":""},{"$f":"IF(ISERROR(#REF!),\"\",#REF!)","v":""},{"$f":"IF(ISERROR(#REF!),\"\",#REF!)","v":""},{"$f":"IF(ISERROR(#REF!),\"\",#REF!)","v":""}]
[null,null,null,null,null,null,null,null,null,null,null,{"$f":"IF(ISERROR(#REF!),\"\",#REF!)","v":""},{"$f":"IF(ISERROR(#REF!),\"\",#REF!)","v":""},{"$f":"IF(ISERROR(#REF!),\"\",#REF!)","v":""},{"$f":"IF(ISERROR(#REF!),\"\",#REF!)","v":""},{"$f":"IF(ISERROR(#REF!),\"\",#REF!)","v":""}]
[]
[null,null,null,null,null,null,null,null,null,null,null,{"$f":"IF(ISERROR(#REF!),\"\",#REF!)","v":""},{"$f":"IF(ISERROR(#REF!),\"\",#REF!)","v":""},{"$f":"IF(ISERROR(#REF!),\"\",#REF!)","v":""},{"$f":"IF(ISERROR(#REF!),\"\",#REF!)","v":""},{"$f":"IF(ISERROR(#REF!),\"\",#REF!)","v":""}]
[null,null,null,null,null,null,null,null,null,null,null,{"$f":"IF(ISERROR(#REF!),\"\",#REF!)","v":""},{"$f":"IF(ISERROR(#REF!),\"\",#REF!)","v":""},{"$f":"IF(ISERROR(#REF!),\"\",#REF!)","v":""},{"$f":"IF(ISERROR(#REF!),\"\",#REF!)","v":""},{"$f":"IF(ISERROR(#REF!),\"\",#REF!)","v":""}]
[null,null,null,null,null,null,null,null,null,null,null,{"$f":"IF(ISERROR(#REF!),\"\",#REF!)","v":""},{"$f":"IF(ISERROR(#REF!),\"\",#REF!)","v":""},{"$f":"IF(ISERROR(#REF!),\"\",#REF!)","v":""},{"$f":"IF(ISERROR(#REF!),\"\",#REF!)","v":""},{"$f":"IF(ISERROR(#REF!),\"\",#REF!)","v":""}]
[null,null,null,null,null,null,null,null,null,null,null,{"$f":"IF(ISERROR(#REF!),\"\",#REF!)","v":""},{"$f":"IF(ISERROR(#REF!),\"\",#REF!)","v":""},{"$f":"IF(ISERROR(#REF!),\"\",#REF!)","v":""},{"$f":"IF(ISERROR(#REF!),\"\",#REF!)","v":""},{"$f":"IF(ISERROR(#REF!),\"\",#REF!)","v":""}]
[null,null,null,null,null,null,null,null,null,null,null,{"$f":"IF(ISERROR(#REF!),\"\",#REF!)","v":""},{"$f":"IF(ISERROR(#REF!),\"\",#REF!)","v":""},{"$f":"IF(ISERROR(#REF!),\"\",#REF!)","v":""},{"$f":"IF(ISERROR(#REF!),\"\",#REF!)","v":""},{"$f":"IF(ISERROR(#REF!),\"\",#REF!)","v":""}]
[null,null,null,null,null,null,null,null,null,null,null,{"$f":"IF(ISERROR(#REF!),\"\",#REF!)","v":""},{"$f":"IF(ISERROR(#REF!),\"\",#REF!)","v":""},{"$f":"IF(ISERROR(#REF!),\"\",#REF!)","v":""},{"$f":"IF(ISERROR(#REF!),\"\",#REF!)","v":""},{"$f":"IF(ISERROR(#REF!),\"\",#REF!)","v":""}]
[null,null,null,null,null,null,null,null,null,null,null,{"$f":"IF(ISERROR(#REF!),\"\",#REF!)","v":""},{"$f":"IF(ISERROR(#REF!),\"\",#REF!)","v":""},{"$f":"IF(ISERROR(#REF!),\"\",#REF!)","v":""},{"$f":"IF(ISERROR(#REF!),\"\",#REF!)","v":""},{"$f":"IF(ISERROR(#REF!),\"\",#REF!)","v":""}]
[null,null,null,null,null,null,null,null,null,null,null,{"$f":"IF(ISERROR(#REF!),\"\",#REF!)","v":""},{"$f":"IF(ISERROR(#REF!),\"\",#REF!)","v":""},{"$f":"IF(ISERROR(#REF!),\"\",#REF!)","v":""},{"$f":"IF(ISERROR(#REF!),\"\",#REF!)","v":""},{"$f":"IF(ISERROR(#REF!),\"\",#REF!)","v":""}]
[null,null,null,null,null,null,null,null,null,null,null,{"$f":"IF(ISERROR(#REF!),\"\",#REF!)","v":""},{"$f":"IF(ISERROR(#REF!),\"\",#REF!)","v":""},{"$f":"IF(ISERROR(#REF!),\"\",#REF!)","v":""},{"$f":"IF(ISERROR(#REF!),\"\",#REF!)","v":""},{"$f":"IF(ISERROR(#REF!),\"\",#REF!)","v":""}]
[null,null,null,null,null,null,null,null,null,null,null,{"$f":"IF(ISERROR(#REF!),\"\",#REF!)","v":""},{"$f":"IF(ISERROR(#REF!),\"\",#REF!)","v":""},{"$f":"IF(ISERROR(#REF!),\"\",#REF!)","v":""},{"$f":"IF(ISERROR(#REF!),\"\",#REF!)","v":""},{"$f":"IF(ISERROR(#REF!),\"\",#REF!)","v":""}]
[null,null,null,null,null,null,null,null,null,null,null,{"$f":"IF(ISERROR(#REF!),\"\",#REF!)","v":""},{"$f":"IF(ISERROR(#REF!),\"\",#REF!)","v":""},{"$f":"IF(ISERROR(#REF!),\"\",#REF!)","v":""},{"$f":"IF(ISERROR(#REF!),\"\",#REF!)","v":""},{"$f":"IF(ISERROR(#REF!),\"\",#REF!)","v":""}]
[null,null,null,null,null,null,null,null,null,null,null,{"$f":"IF(ISERROR(#REF!),\"\",#REF!)","v":""},{"$f":"IF(ISERROR(#REF!),\"\",#REF!)","v":""},{"$f":"IF(ISERROR(#REF!),\"\",#REF!)","v":""},{"$f":"IF(ISERROR(#REF!),\"\",#REF!)","v":""},{"$f":"IF(ISERROR(#REF!),\"\",#REF!)","v":""}]
[null,null,null,null,null,null,null,null,null,null,null,{"$f":"IF(ISERROR(#REF!),\"\",#REF!)","v":""},{"$f":"IF(ISERROR(#REF!),\"\",#REF!)","v":""},{"$f":"IF(ISERROR(#REF!),\"\",#REF!)","v":""},{"$f":"IF(ISERROR(#REF!),\"\",#REF!)","v":""},{"$f":"IF(ISERROR(#REF!),\"\",#REF!)","v":""}]
[]
[null,null,null,null,null,null,null,null,null,null,null,{"$f":"IF(ISERROR(#REF!),\"\",#REF!)","v":""},{"$f":"IF(ISERROR(#REF!),\"\",#REF!)","v":""},{"$f":"IF(ISERROR(#REF!),\"\",#REF!)","v":""},{"$f":"IF(ISERROR(#REF!),\"\",#REF!)","v":""},{"$f":"IF(ISERROR(#REF!),\"\",#REF!)","v":""}]
[null,null,null,null,null,null,null,null,null,null,null,{"$f":"IF(ISERROR(#REF!),\"\",#REF!)","v":""},{"$f":"IF(ISERROR(#REF!),\"\",#REF!)","v":""},{"$f":"IF(ISERROR(#REF!),\"\",#REF!)","v":""},{"$f":"IF(ISERROR(#REF!),\"\",#REF!)","v":""},{"$f":"IF(ISERROR(#REF!),\"\",#REF!)","v":""}]
[null,null,null,null,null,null,null,null,null,null,null,{"$f":"IF(ISERROR(#REF!),\"\",#REF!)","v":""},{"$f":"IF(ISERROR(#REF!),\"\",#REF!)","v":""},{"$f":"IF(ISERROR(#REF!),\"\",#REF!)","v":""},{"$f":"IF(ISERROR(#REF!),\"\",#REF!)","v":""},{"$f":"IF(ISERROR(#REF!),\"\",#REF!)","v":""}]
[null,null,null,null,null,null,null,null,null,null,null,{"$f":"IF(ISERROR(#REF!),\"\",#REF!)","v":""},{"$f":"IF(ISERROR(#REF!),\"\",#REF!)","v":""},{"$f":"IF(ISERROR(#REF!),\"\",#REF!)","v":""},{"$f":"IF(ISERROR(#REF!),\"\",#REF!)","v":""},{"$f":"IF(ISERROR(#REF!),\"\",#REF!)","v":""}]
[null,null,null,null,null,null,null,null,null,null,null,{"$f":"IF(ISERROR(#REF!),\"\",#REF!)","v":""},{"$f":"IF(ISERROR(#REF!),\"\",#REF!)","v":""},{"$f":"IF(ISERROR(#REF!),\"\",#REF!)","v":""},{"$f":"IF(ISERROR(#REF!),\"\",#REF!)","v":""},{"$f":"IF(ISERROR(#REF!),\"\",#REF!)","v":""}]
[]
[null,null,null,null,null,null,null,null,null,null,null,{"$f":"IF(ISERROR(#REF!),\"\",#REF!)","v":""},{"$f":"IF(ISERROR(#REF!),\"\",#REF!)","v":""},{"$f":"IF(ISERROR(#REF!),\"\",#REF!)","v":""},{"$f":"IF(ISERROR(#REF!),\"\",#REF!)","v":""},{"$f":"IF(ISERROR(#REF!),\"\",#REF!)","v":""}]
[null,null,null,null,null,null,null,null,null,null,null,{"$f":"IF(ISERROR(#REF!),\"\",#REF!)","v":""},{"$f":"IF(ISERROR(#REF!),\"\",#REF!)","v":""},{"$f":"IF(ISERROR(#REF!),\"\",#REF!)","v":""},{"$f":"IF(ISERROR(#REF!),\"\",#REF!)","v":""},{"$f":"IF(ISERROR(#REF!),\"\",#REF!)","v":""}]
[null,null,null,null,null,null,null,null,null,null,null,{"$f":"IF(ISERROR(#REF!),\"\",#REF!)","v":""},{"$f":"IF(ISERROR(#REF!),\"\",#REF!)","v":""},{"$f":"IF(ISERROR(#REF!),\"\",#REF!)","v":""},{"$f":"IF(ISERROR(#REF!),\"\",#REF!)","v":""},{"$f":"IF(ISERROR(#REF!),\"\",#REF!)","v":""}]
[null,null,null,null,null,null,null,null,null,null,null,{"$f":"IF(ISERROR(#REF!),\"\",#REF!)","v":""},{"$f":"IF(ISERROR(#REF!),\"\",#REF!)","v":""},{"$f":"IF(ISERROR(#REF!),\"\",#REF!)","v":""},{"$f":"IF(ISERROR(#REF!),\"\",#REF!)","v":""},{"$f":"IF(ISERROR(#REF!),\"\",#REF!)","v":""}]
[null,null,null,null,null,null,null,null,null,null,null,{"$f":"IF(ISERROR(#REF!),\"\",#REF!)","v":""},{"$f":"IF(ISERROR(#REF!),\"\",#REF!)","v":""},{"$f":"IF(ISERROR(#REF!),\"\",#REF!)","v":""},{"$f":"IF(ISERROR(#REF!),\"\",#REF!)","v":""},{"$f":"IF(ISERROR(#REF!),\"\",#REF!)","v":""}]
[null,null,null,null,null,null,null,null,null,null,null,{"$f":"IF(ISERROR(#REF!),\"\",#REF!)","v":""},{"$f":"IF(ISERROR(#REF!),\"\",#REF!)","v":""},{"$f":"IF(ISERROR(#REF!),\"\",#REF!)","v":""},{"$f":"IF(ISERROR(#REF!),\"\",#REF!)","v":""},{"$f":"IF(ISERROR(#REF!),\"\",#REF!)","v":""}]
[null,null,null,null,null,null,null,null,null,null,null,{"$f":"IF(ISERROR(#REF!),\"\",#REF!)","v":""},{"$f":"IF(ISERROR(#REF!),\"\",#REF!)","v":""},{"$f":"IF(ISERROR(#REF!),\"\",#REF!)","v":""},{"$f":"IF(ISERROR(#REF!),\"\",#REF!)","v":""},{"$f":"IF(ISERROR(#REF!),\"\",#REF!)","v":""}]
[null,null,null,null,null,null,null,null,null,null,null,{"$f":"IF(ISERROR(#REF!),\"\",#REF!)","v":""},{"$f":"IF(ISERROR(#REF!),\"\",#REF!)","v":""},{"$f":"IF(ISERROR(#REF!),\"\",#REF!)","v":""},{"$f":"IF(ISERROR(#REF!),\"\",#REF!)","v":""},{"$f":"IF(ISERROR(#REF!),\"\",#REF!)","v":""}]
[null,null,null,null,null,null,null,null,null,null,null,{"$f":"IF(ISERROR(#REF!),\"\",#REF!)","v":""},{"$f":"IF(ISERROR(#REF!),\"\",#REF!)","v":""},{"$f":"IF(ISERROR(#REF!),\"\",#REF!)","v":""},{"$f":"IF(ISERROR(#REF!),\"\",#REF!)","v":""},{"$f":"IF(ISERROR(#REF!),\"\",#REF!)","v":""}]
[null,null,null,null,null,null,null,null,null,null,null,{"$f":"IF(ISERROR(#REF!),\"\",#REF!)","v":""},{"$f":"IF(ISERROR(#REF!),\"\",#REF!)","v":""},{"$f":"IF(ISERROR(#REF!),\"\",#REF!)","v":""},{"$f":"IF(ISERROR(#REF!),\"\",#REF!)","v":""},{"$f":"IF(ISERROR(#REF!),\"\",#REF!)","v":""}]
[null,null,null,null,null,null,null,null,null,null,null,{"$f":"IF(ISERROR(#REF!),\"\",#REF!)","v":""},{"$f":"IF(ISERROR(#REF!),\"\",#REF!)","v":""},{"$f":"IF(ISERROR(#REF!),\"\",#REF!)","v":""},{"$f":"IF(ISERROR(#REF!),\"\",#REF!)","v":""},{"$f":"IF(ISERROR(#REF!),\"\",#REF!)","v":""}]
[null,null,null,null,null,null,null,null,null,null,null,{"$f":"IF(ISERROR(#REF!),\"\",#REF!)","v":""},{"$f":"IF(ISERROR(#REF!),\"\",#REF!)","v":""},{"$f":"IF(ISERROR(#REF!),\"\",#REF!)","v":""},{"$f":"IF(ISERROR(#REF!),\"\",#REF!)","v":""},{"$f":"IF(ISERROR(#REF!),\"\",#REF!)","v":""}]
[null,null,null,null,null,null,null,null,null,null,null,{"$f":"IF(ISERROR(#REF!),\"\",#REF!)","v":""},{"$f":"IF(ISERROR(#REF!),\"\",#REF!)","v":""},{"$f":"IF(ISERROR(#REF!),\"\",#REF!)","v":""},{"$f":"IF(ISERROR(#REF!),\"\",#REF!)","v":""},{"$f":"IF(ISERROR(#REF!),\"\",#REF!)","v":""}]
[null,null,null,null,null,null,null,null,null,null,null,{"$f":"IF(ISERROR(#REF!),\"\",#REF!)","v":""},{"$f":"IF(ISERROR(#REF!),\"\",#REF!)","v":""},{"$f":"IF(ISERROR(#REF!),\"\",#REF!)","v":""},{"$f":"IF(ISERROR(#REF!),\"\",#REF!)","v":""},{"$f":"IF(ISERROR(#REF!),\"\",#REF!)","v":""}]
[null,null,null,null,null,null,null,null,null,null,null,{"$f":"IF(ISERROR(#REF!),\"\",#REF!)","v":""},{"$f":"IF(ISERROR(#REF!),\"\",#REF!)","v":""},{"$f":"IF(ISERROR(#REF!),\"\",#REF!)","v":""},{"$f":"IF(ISERROR(#REF!),\"\",#REF!)","v":""},{"$f":"IF(ISERROR(#REF!),\"\",#REF!)","v":""}]
[null,null,null,null,null,null,null,null,null,null,null,{"$f":"IF(ISERROR(#REF!),\"\",#REF!)","v":""},{"$f":"IF(ISERROR(#REF!),\"\",#REF!)","v":""},{"$f":"IF(ISERROR(#REF!),\"\",#REF!)","v":""},{"$f":"IF(ISERROR(#REF!),\"\",#REF!)","v":""},{"$f":"IF(ISERROR(#REF!),\"\",#REF!)","v":""}]
[null,null,null,null,null,null,null,null,null,null,null,{"$f":"IF(ISERROR(#REF!),\"\",#REF!)","v":""},{"$f":"IF(ISERROR(#REF!),\"\",#REF!)","v":""},{"$f":"IF(ISERROR(#REF!),\"\",#REF!)","v":""},{"$f":"IF(ISERROR(#REF!),\"\",#REF!)","v":""},{"$f":"IF(ISERROR(#REF!),\"\",#REF!)","v":""}]
[]
[null,null,null,null,null,null,null,null,null,null,null,{"$f":"IF(ISERROR(#REF!),\"\",#REF!)","v":""},{"$f":"IF(ISERROR(#REF!),\"\",#REF!)","v":""},{"$f":"IF(ISERROR(#REF!),\"\",#REF!)","v":""},{"$f":"IF(ISERROR(#REF!),\"\",#REF!)","v":""},{"$f":"IF(ISERROR(#REF!),\"\",#REF!)","v":""}]
[]
[null,null,null,null,null,null,null,null,null,null,null,{"$f":"IF(ISERROR(#REF!),\"\",#REF!)","v":""},{"$f":"IF(ISERROR(#REF!),\"\",#REF!)","v":""},{"$f":"IF(ISERROR(#REF!),\"\",#REF!)","v":""},{"$f":"IF(ISERROR(#REF!),\"\",#REF!)","v":""},{"$f":"IF(ISERROR(#REF!),\"\",#REF!)","v":""}]
[null,null,null,null,null,null,null,null,null,null,null,{"$f":"IF(ISERROR(#REF!),\"\",#REF!)","v":""},{"$f":"IF(ISERROR(#REF!),\"\",#REF!)","v":""},{"$f":"IF(ISERROR(#REF!),\"\",#REF!)","v":""},{"$f":"IF(ISERROR(#REF!),\"\",#REF!)","v":""},{"$f":"IF(ISERROR(#REF!),\"\",#REF!)","v":""}]
[null,null,null,null,null,null,null,null,null,null,null,{"$f":"IF(ISERROR(#REF!),\"\",#REF!)","v":""},{"$f":"IF(ISERROR(#REF!),\"\",#REF!)","v":""},{"$f":"IF(ISERROR(#REF!),\"\",#REF!)","v":""},{"$f":"IF(ISERROR(#REF!),\"\",#REF!)","v":""},{"$f":"IF(ISERROR(#REF!),\"\",#REF!)","v":""}]
[null,null,null,null,null,null,null,null,null,null,null,{"$f":"IF(ISERROR(#REF!),\"\",#REF!)","v":""},{"$f":"IF(ISERROR(#REF!),\"\",#REF!)","v":""},{"$f":"IF(ISERROR(#REF!),\"\",#REF!)","v":""},{"$f":"IF(ISERROR(#REF!),\"\",#REF!)","v":""},{"$f":"IF(ISERROR(#REF!),\"\",#REF!)","v":""}]

{"sheet":"図説","index":2,"n_rows":0,"n_cols":0,"rows_kept":0,"cut":false,"hidden":false,"merged":[]}